Package: linkSet Version: 1.0.0 Command: /home/biocbuild/bbs-3.22-bioc/R/bin/R CMD INSTALL linkSet StartedAt: 2025-11-03 15:45:01 -0500 (Mon, 03 Nov 2025) EndedAt: 2025-11-03 15:45:46 -0500 (Mon, 03 Nov 2025) EllapsedTime: 44.8 seconds RetCode: 0 Status: OK