Package: linkSet Version: 1.0.0 Command: /home/biocbuild/bbs-3.22-bioc/R/bin/R CMD build --keep-empty-dirs --no-resave-data --md5 linkSet StartedAt: 2025-11-03 18:24:38 -0500 (Mon, 03 Nov 2025) EndedAt: 2025-11-03 18:25:52 -0500 (Mon, 03 Nov 2025) EllapsedTime: 74.1 seconds RetCode: 0 Status: OK PackageFile: linkSet_1.0.0.tar.gz PackageFileSize: 4.304 MiB