Package: linkSet Version: 1.0.0 Command: /Library/Frameworks/R.framework/Resources/bin/R CMD INSTALL linkSet StartedAt: 2025-11-20 17:01:27 -0500 (Thu, 20 Nov 2025) EndedAt: 2025-11-20 17:03:01 -0500 (Thu, 20 Nov 2025) EllapsedTime: 94.0 seconds RetCode: 0 Status: OK