Package: linkSet Version: 1.0.0 Command: /Library/Frameworks/R.framework/Resources/bin/R CMD INSTALL linkSet StartedAt: 2025-11-03 15:41:41 -0500 (Mon, 03 Nov 2025) EndedAt: 2025-11-03 15:42:40 -0500 (Mon, 03 Nov 2025) EllapsedTime: 58.6 seconds RetCode: 0 Status: OK