Package: linkSet Version: 1.0.0 Command: /Library/Frameworks/R.framework/Resources/bin/R CMD INSTALL linkSet StartedAt: 2025-11-05 15:53:57 -0500 (Wed, 05 Nov 2025) EndedAt: 2025-11-05 15:54:14 -0500 (Wed, 05 Nov 2025) EllapsedTime: 17.6 seconds RetCode: 0 Status: OK