Package: linkSet Version: 1.0.0 Command: /Library/Frameworks/R.framework/Resources/bin/R CMD build --keep-empty-dirs --no-resave-data linkSet StartedAt: 2025-11-05 17:21:50 -0500 (Wed, 05 Nov 2025) EndedAt: 2025-11-05 17:22:19 -0500 (Wed, 05 Nov 2025) EllapsedTime: 28.3 seconds RetCode: 1 Status: ERROR PackageFile: None PackageFileSize: NA