Package: linkSet Version: 1.0.0 Command: /Library/Frameworks/R.framework/Resources/bin/R CMD INSTALL linkSet StartedAt: 2025-11-20 18:15:10 -0500 (Thu, 20 Nov 2025) EndedAt: 2025-11-20 18:16:01 -0500 (Thu, 20 Nov 2025) EllapsedTime: 50.6 seconds RetCode: 0 Status: OK