Package: linkSet Version: 1.0.0 Maintainer: Gilbert Han MaintainerEmail: GilbertHan1011 at gmail.com git_url: https://git.bioconductor.org/packages/linkSet git_branch: RELEASE_3_22 git_last_commit: e983433 git_last_commit_date: 2025-10-29 11:37:12 -0500 (Wed, 29 Oct 2025)