Package: lineagespot Version: 1.12.0 Command: /home/biocbuild/R/R/bin/R CMD build --keep-empty-dirs --no-resave-data lineagespot StartedAt: 2025-05-16 01:42:25 -0000 (Fri, 16 May 2025) EndedAt: 2025-05-16 01:44:00 -0000 (Fri, 16 May 2025) EllapsedTime: 95.0 seconds RetCode: 0 Status: OK PackageFile: lineagespot_1.12.0.tar.gz PackageFileSize: 785.5 KiB