Package: lineagespot Version: 1.12.0 Command: /Library/Frameworks/R.framework/Resources/bin/R CMD build --keep-empty-dirs --no-resave-data lineagespot StartedAt: 2025-04-21 16:47:03 -0400 (Mon, 21 Apr 2025) EndedAt: 2025-04-21 16:47:32 -0400 (Mon, 21 Apr 2025) EllapsedTime: 29.4 seconds RetCode: 0 Status: OK PackageFile: lineagespot_1.12.0.tar.gz PackageFileSize: 718.5 KiB