Package: limpca Version: 1.2.0 Command: /home/biocbuild/bbs-3.20-bioc/R/bin/R CMD INSTALL limpca StartedAt: 2025-01-30 15:58:47 -0500 (Thu, 30 Jan 2025) EndedAt: 2025-01-30 15:59:10 -0500 (Thu, 30 Jan 2025) EllapsedTime: 23.3 seconds RetCode: 0 Status: OK