Package: limpca Version: 1.4.0 Command: /home/biocbuild/R/R/bin/R CMD build --keep-empty-dirs --no-resave-data limpca StartedAt: 2025-04-22 01:50:05 -0000 (Tue, 22 Apr 2025) EndedAt: 2025-04-22 01:52:52 -0000 (Tue, 22 Apr 2025) EllapsedTime: 167.1 seconds RetCode: 0 Status: OK PackageFile: limpca_1.4.0.tar.gz PackageFileSize: 4.37 MiB