Package: limpa Version: 1.2.1 Command: /home/biocbuild/bbs-3.22-bioc/R/bin/R CMD INSTALL limpa StartedAt: 2025-11-17 16:40:56 -0500 (Mon, 17 Nov 2025) EndedAt: 2025-11-17 16:41:00 -0500 (Mon, 17 Nov 2025) EllapsedTime: 4.1 seconds RetCode: 0 Status: OK