Package: limpa Version: 1.2.1 Command: /home/biocbuild/bbs-3.22-bioc/R/bin/R CMD build --keep-empty-dirs --no-resave-data --md5 limpa StartedAt: 2025-11-16 18:29:55 -0500 (Sun, 16 Nov 2025) EndedAt: 2025-11-16 18:30:05 -0500 (Sun, 16 Nov 2025) EllapsedTime: 10.0 seconds RetCode: 0 Status: OK PackageFile: limpa_1.2.1.tar.gz PackageFileSize: 543.3 KiB