Package: limmaGUI Version: 1.82.0 Command: /Library/Frameworks/R.framework/Resources/bin/R CMD check --install=check:limmaGUI.install-out.txt --library=/Library/Frameworks/R.framework/Resources/library --no-vignettes --timings limmaGUI_1.82.0.tar.gz StartedAt: 2024-11-19 23:29:07 -0500 (Tue, 19 Nov 2024) EndedAt: 2024-11-19 23:33:45 -0500 (Tue, 19 Nov 2024) EllapsedTime: 278.4 seconds RetCode: 0 Status: OK CheckDir: limmaGUI.Rcheck Warnings: 0