Package: limmaGUI Version: 1.82.0 Command: rm -rf limmaGUI.buildbin-libdir && mkdir limmaGUI.buildbin-libdir && /Users/biocbuild/BBS/utils/build-universal.sh limmaGUI_1.82.0.tar.gz /Library/Frameworks/R.framework/Resources/bin/R limmaGUI.buildbin-libdir StartedAt: 2024-11-20 04:33:58 -0500 (Wed, 20 Nov 2024) EndedAt: 2024-11-20 04:34:40 -0500 (Wed, 20 Nov 2024) EllapsedTime: 42.3 seconds RetCode: 0 Status: OK PackageFile: limmaGUI_1.82.0.tgz PackageFileSize: 5.965 MiB