Package: limmaGUI Version: 1.84.0 Command: rm -rf limmaGUI.buildbin-libdir && mkdir limmaGUI.buildbin-libdir && /Users/biocbuild/BBS/utils/build-universal.sh limmaGUI_1.84.0.tar.gz /Library/Frameworks/R.framework/Resources/bin/R limmaGUI.buildbin-libdir StartedAt: 2025-04-29 12:48:54 -0400 (Tue, 29 Apr 2025) EndedAt: 2025-04-29 12:49:09 -0400 (Tue, 29 Apr 2025) EllapsedTime: 15.2 seconds RetCode: 0 Status: OK PackageFile: limmaGUI_1.84.0.tgz PackageFileSize: 5.958 MiB