Package: limma Version: 3.62.2 Command: /home/biocbuild/R/R/bin/R CMD INSTALL limma StartedAt: 2025-01-30 20:09:52 -0000 (Thu, 30 Jan 2025) EndedAt: 2025-01-30 20:10:24 -0000 (Thu, 30 Jan 2025) EllapsedTime: 31.8 seconds RetCode: 0 Status: OK