Package: limma Version: 3.62.2 Command: F:\biocbuild\bbs-3.20-bioc\R\bin\R.exe CMD INSTALL limma StartedAt: 2025-02-03 15:35:32 -0500 (Mon, 03 Feb 2025) EndedAt: 2025-02-03 15:37:11 -0500 (Mon, 03 Feb 2025) EllapsedTime: 99.1 seconds RetCode: 0 Status: OK