Package: limma Version: 3.62.2 Command: chmod a+r limma -R && F:\biocbuild\bbs-3.20-bioc\R\bin\R.exe CMD build --keep-empty-dirs --no-resave-data limma StartedAt: 2025-01-30 19:48:05 -0500 (Thu, 30 Jan 2025) EndedAt: 2025-01-30 19:49:32 -0500 (Thu, 30 Jan 2025) EllapsedTime: 87.1 seconds RetCode: 0 Status: OK PackageFile: limma_3.62.2.tar.gz PackageFileSize: 2.689 MiB