Package: limma Version: 3.62.2 Command: /home/biocbuild/bbs-3.20-bioc/R/bin/R CMD INSTALL limma StartedAt: 2025-02-03 15:16:19 -0500 (Mon, 03 Feb 2025) EndedAt: 2025-02-03 15:16:39 -0500 (Mon, 03 Feb 2025) EllapsedTime: 20.0 seconds RetCode: 0 Status: OK