Package: limma Version: 3.62.2 Command: /home/biocbuild/bbs-3.20-bioc/R/bin/R CMD check --install=check:limma.install-out.txt --library=/home/biocbuild/bbs-3.20-bioc/R/site-library --timings limma_3.62.2.tar.gz StartedAt: 2025-01-30 23:28:12 -0500 (Thu, 30 Jan 2025) EndedAt: 2025-01-30 23:29:35 -0500 (Thu, 30 Jan 2025) EllapsedTime: 83.1 seconds RetCode: 0 Status: OK CheckDir: limma.Rcheck Warnings: 0