Package: limma Version: 3.62.2 Command: /Library/Frameworks/R.framework/Resources/bin/R CMD check --install=check:limma.install-out.txt --library=/Library/Frameworks/R.framework/Resources/library --no-vignettes --timings limma_3.62.2.tar.gz StartedAt: 2025-02-04 05:36:43 -0500 (Tue, 04 Feb 2025) EndedAt: 2025-02-04 05:40:16 -0500 (Tue, 04 Feb 2025) EllapsedTime: 213.4 seconds RetCode: 0 Status: OK CheckDir: limma.Rcheck Warnings: 0