Package: limma Version: 3.62.2 Command: rm -rf limma.buildbin-libdir && mkdir limma.buildbin-libdir && /Users/biocbuild/BBS/utils/build-universal.sh limma_3.62.2.tar.gz /Library/Frameworks/R.framework/Resources/bin/R limma.buildbin-libdir StartedAt: 2025-02-11 13:37:08 -0500 (Tue, 11 Feb 2025) EndedAt: 2025-02-11 13:38:14 -0500 (Tue, 11 Feb 2025) EllapsedTime: 65.6 seconds RetCode: 0 Status: OK PackageFile: limma_3.62.2.tgz PackageFileSize: 2.949 MiB