Package: lfa Version: 2.8.0 Command: /Library/Frameworks/R.framework/Resources/bin/R CMD INSTALL lfa StartedAt: 2025-05-22 15:11:08 -0400 (Thu, 22 May 2025) EndedAt: 2025-05-22 15:11:43 -0400 (Thu, 22 May 2025) EllapsedTime: 34.5 seconds RetCode: 0 Status: OK