Package: lfa Version: 2.8.0 Command: rm -rf lfa.buildbin-libdir && mkdir lfa.buildbin-libdir && /Users/biocbuild/BBS/utils/build-universal.sh lfa_2.8.0.tar.gz /Library/Frameworks/R.framework/Resources/bin/R lfa.buildbin-libdir StartedAt: 2025-05-27 13:31:14 -0400 (Tue, 27 May 2025) EndedAt: 2025-05-27 13:31:26 -0400 (Tue, 27 May 2025) EllapsedTime: 11.7 seconds RetCode: 0 Status: OK PackageFile: lfa_2.8.0.tgz PackageFileSize: 516.4 KiB