Package: lfa Version: 2.8.0 Command: /Library/Frameworks/R.framework/Resources/bin/R CMD check --install=check:lfa.install-out.txt --library=/Library/Frameworks/R.framework/Resources/library --no-vignettes --timings lfa_2.8.0.tar.gz StartedAt: 2025-04-21 21:33:23 -0400 (Mon, 21 Apr 2025) EndedAt: 2025-04-21 21:34:11 -0400 (Mon, 21 Apr 2025) EllapsedTime: 48.3 seconds RetCode: 0 Status: OK CheckDir: lfa.Rcheck Warnings: 0