Package: levi Version: 1.24.0 Command: /home/biocbuild/R/R/bin/R CMD check --install=check:levi.install-out.txt --library=/home/biocbuild/R/R/site-library --no-vignettes --timings levi_1.24.0.tar.gz StartedAt: 2025-02-04 08:18:40 -0000 (Tue, 04 Feb 2025) EndedAt: 2025-02-04 08:20:14 -0000 (Tue, 04 Feb 2025) EllapsedTime: 94.1 seconds RetCode: 0 Status: OK CheckDir: levi.Rcheck Warnings: 0