Package: levi Version: 1.26.0 Command: /Library/Frameworks/R.framework/Resources/bin/R CMD INSTALL levi StartedAt: 2025-05-22 15:19:12 -0400 (Thu, 22 May 2025) EndedAt: 2025-05-22 15:20:19 -0400 (Thu, 22 May 2025) EllapsedTime: 67.0 seconds RetCode: 0 Status: OK