Package: les Version: 1.58.0 Command: /home/biocbuild/bbs-3.21-bioc/R/bin/R CMD INSTALL les StartedAt: 2025-09-28 15:19:31 -0400 (Sun, 28 Sep 2025) EndedAt: 2025-09-28 15:19:54 -0400 (Sun, 28 Sep 2025) EllapsedTime: 22.7 seconds RetCode: 0 Status: OK