Package: les Version: 1.56.0 Command: /Library/Frameworks/R.framework/Resources/bin/R CMD build --keep-empty-dirs --no-resave-data les StartedAt: 2025-01-03 02:10:11 -0500 (Fri, 03 Jan 2025) EndedAt: 2025-01-03 02:10:34 -0500 (Fri, 03 Jan 2025) EllapsedTime: 23.0 seconds RetCode: 0 Status: OK PackageFile: les_1.56.0.tar.gz PackageFileSize: 448.1 KiB