Package: lemur Version: 1.6.0 Command: /Library/Frameworks/R.framework/Resources/bin/R CMD INSTALL lemur StartedAt: 2025-04-21 15:15:42 -0400 (Mon, 21 Apr 2025) EndedAt: 2025-04-21 15:15:56 -0400 (Mon, 21 Apr 2025) EllapsedTime: 14.7 seconds RetCode: 0 Status: OK