Package: lemur Version: 1.6.0 Command: /Library/Frameworks/R.framework/Resources/bin/R CMD check --install=check:lemur.install-out.txt --library=/Library/Frameworks/R.framework/Resources/library --no-vignettes --timings lemur_1.6.0.tar.gz StartedAt: 2025-04-21 20:03:15 -0400 (Mon, 21 Apr 2025) EndedAt: 2025-04-21 20:05:01 -0400 (Mon, 21 Apr 2025) EllapsedTime: 105.4 seconds RetCode: 0 Status: WARNINGS CheckDir: lemur.Rcheck Warnings: 1