Package: lemur Version: 1.6.0 Command: /Library/Frameworks/R.framework/Resources/bin/R CMD build --keep-empty-dirs --no-resave-data lemur StartedAt: 2025-04-21 16:46:40 -0400 (Mon, 21 Apr 2025) EndedAt: 2025-04-21 16:47:23 -0400 (Mon, 21 Apr 2025) EllapsedTime: 42.5 seconds RetCode: 0 Status: OK PackageFile: lemur_1.6.0.tar.gz PackageFileSize: 3.529 MiB