Package: lemur Version: 1.6.0 Command: rm -rf lemur.buildbin-libdir && mkdir lemur.buildbin-libdir && /Users/biocbuild/BBS/utils/build-universal.sh lemur_1.6.0.tar.gz /Library/Frameworks/R.framework/Resources/bin/R lemur.buildbin-libdir StartedAt: 2025-04-21 22:40:04 -0400 (Mon, 21 Apr 2025) EndedAt: 2025-04-21 22:40:20 -0400 (Mon, 21 Apr 2025) EllapsedTime: 15.3 seconds RetCode: 0 Status: OK PackageFile: lemur_1.6.0.tgz PackageFileSize: 3.838 MiB