Package: lefser Version: 1.18.0 Maintainer: Sehyun Oh MaintainerEmail: shbrief at gmail.com git_url: https://git.bioconductor.org/packages/lefser git_branch: RELEASE_3_21 git_last_commit: 6f4a412 git_last_commit_date: 2025-04-15 12:14:21 -0400 (Tue, 15 Apr 2025)