Package: ldblock Version: 1.36.0 Command: /home/biocbuild/bbs-3.20-bioc/R/bin/R CMD build --keep-empty-dirs --no-resave-data --md5 ldblock StartedAt: 2025-01-30 17:49:51 -0500 (Thu, 30 Jan 2025) EndedAt: 2025-01-30 17:50:34 -0500 (Thu, 30 Jan 2025) EllapsedTime: 43.1 seconds RetCode: 0 Status: OK PackageFile: ldblock_1.36.0.tar.gz PackageFileSize: 40.1 MiB