Package: ldblock Version: 1.38.0 Command: /Library/Frameworks/R.framework/Resources/bin/R CMD check --install=check:ldblock.install-out.txt --library=/Library/Frameworks/R.framework/Resources/library --no-vignettes --timings ldblock_1.38.0.tar.gz StartedAt: 2025-04-25 06:01:14 -0400 (Fri, 25 Apr 2025) EndedAt: 2025-04-25 06:04:11 -0400 (Fri, 25 Apr 2025) EllapsedTime: 177.2 seconds RetCode: 0 Status: OK CheckDir: ldblock.Rcheck Warnings: 0