Package: ldblock Version: 1.38.0 Command: rm -rf ldblock.buildbin-libdir && mkdir ldblock.buildbin-libdir && /Users/biocbuild/BBS/utils/build-universal.sh ldblock_1.38.0.tar.gz /Library/Frameworks/R.framework/Resources/bin/R ldblock.buildbin-libdir StartedAt: 2025-04-25 13:42:15 -0400 (Fri, 25 Apr 2025) EndedAt: 2025-04-25 13:42:43 -0400 (Fri, 25 Apr 2025) EllapsedTime: 28.5 seconds RetCode: 1 Status: ERROR PackageFile: None PackageFileSize: NA