Package: ldblock Version: 1.38.0 Command: /home/biocbuild/R/R/bin/R CMD build --keep-empty-dirs --no-resave-data ldblock StartedAt: 2025-05-09 01:48:02 -0000 (Fri, 09 May 2025) EndedAt: 2025-05-09 01:49:09 -0000 (Fri, 09 May 2025) EllapsedTime: 67.0 seconds RetCode: 0 Status: OK PackageFile: ldblock_1.38.0.tar.gz PackageFileSize: 40.12 MiB