Package: ldblock Version: 1.36.0 Command: /Library/Frameworks/R.framework/Resources/bin/R CMD INSTALL ldblock StartedAt: 2025-01-30 15:19:40 -0500 (Thu, 30 Jan 2025) EndedAt: 2025-01-30 15:19:49 -0500 (Thu, 30 Jan 2025) EllapsedTime: 9.1 seconds RetCode: 0 Status: OK