Package: ldblock Version: 1.36.0 Command: /Library/Frameworks/R.framework/Resources/bin/R CMD build --keep-empty-dirs --no-resave-data ldblock StartedAt: 2025-01-31 02:13:01 -0500 (Fri, 31 Jan 2025) EndedAt: 2025-01-31 02:14:00 -0500 (Fri, 31 Jan 2025) EllapsedTime: 59.2 seconds RetCode: 0 Status: OK PackageFile: ldblock_1.36.0.tar.gz PackageFileSize: 40.13 MiB