Package: ldblock Version: 1.38.0 Command: rm -rf ldblock.buildbin-libdir && mkdir ldblock.buildbin-libdir && /Users/biocbuild/BBS/utils/build-universal.sh ldblock_1.38.0.tar.gz /Library/Frameworks/R.framework/Resources/bin/R ldblock.buildbin-libdir StartedAt: 2025-04-29 12:48:42 -0400 (Tue, 29 Apr 2025) EndedAt: 2025-04-29 12:48:47 -0400 (Tue, 29 Apr 2025) EllapsedTime: 5.1 seconds RetCode: 0 Status: OK PackageFile: ldblock_1.38.0.tgz PackageFileSize: 40.29 MiB