Package: kmcut Version: 1.0.0 Command: /home/biocbuild/bbs-3.20-bioc/R/bin/R CMD check --install=check:kmcut.install-out.txt --library=/home/biocbuild/bbs-3.20-bioc/R/site-library --timings kmcut_1.0.0.tar.gz StartedAt: 2024-11-20 04:58:51 -0500 (Wed, 20 Nov 2024) EndedAt: 2024-11-20 05:00:59 -0500 (Wed, 20 Nov 2024) EllapsedTime: 127.7 seconds RetCode: 0 Status: OK CheckDir: kmcut.Rcheck Warnings: 0