Package: kmcut Version: 1.0.0 Command: /home/biocbuild/R/R/bin/R CMD INSTALL kmcut StartedAt: 2025-01-30 20:52:58 -0000 (Thu, 30 Jan 2025) EndedAt: 2025-01-30 20:53:24 -0000 (Thu, 30 Jan 2025) EllapsedTime: 26.7 seconds RetCode: 0 Status: OK