Package: kmcut Version: 1.0.0 Command: rm -rf kmcut.buildbin-libdir && mkdir kmcut.buildbin-libdir && F:\biocbuild\bbs-3.20-bioc\R\bin\R.exe CMD INSTALL --build --library=kmcut.buildbin-libdir kmcut_1.0.0.tar.gz StartedAt: 2025-02-04 08:47:39 -0500 (Tue, 04 Feb 2025) EndedAt: 2025-02-04 08:48:20 -0500 (Tue, 04 Feb 2025) EllapsedTime: 40.6 seconds RetCode: 0 Status: OK PackageFile: kmcut_1.0.0.zip PackageFileSize: 562.6 KiB