Package: kmcut Version: 1.0.0 Command: /home/biocbuild/bbs-3.20-bioc/R/bin/R CMD INSTALL kmcut StartedAt: 2025-02-03 15:53:53 -0500 (Mon, 03 Feb 2025) EndedAt: 2025-02-03 15:54:16 -0500 (Mon, 03 Feb 2025) EllapsedTime: 23.4 seconds RetCode: 0 Status: OK