Package: kmcut Version: 1.0.0 Command: rm -rf kmcut.buildbin-libdir && mkdir kmcut.buildbin-libdir && /Users/biocbuild/BBS/utils/build-universal.sh kmcut_1.0.0.tar.gz /Library/Frameworks/R.framework/Resources/bin/R kmcut.buildbin-libdir StartedAt: 2025-01-31 13:03:20 -0500 (Fri, 31 Jan 2025) EndedAt: 2025-01-31 13:04:08 -0500 (Fri, 31 Jan 2025) EllapsedTime: 47.5 seconds RetCode: 0 Status: OK PackageFile: kmcut_1.0.0.tgz PackageFileSize: 1.279 MiB