Package: kmcut Version: 1.0.0 Command: /Library/Frameworks/R.framework/Resources/bin/R CMD check --install=check:kmcut.install-out.txt --library=/Library/Frameworks/R.framework/Resources/library --no-vignettes --timings kmcut_1.0.0.tar.gz StartedAt: 2025-01-31 23:21:06 -0500 (Fri, 31 Jan 2025) EndedAt: 2025-01-31 23:23:41 -0500 (Fri, 31 Jan 2025) EllapsedTime: 155.6 seconds RetCode: 0 Status: OK CheckDir: kmcut.Rcheck Warnings: 0