Package: kmcut Version: 1.0.0 Command: /Library/Frameworks/R.framework/Resources/bin/R CMD build --keep-empty-dirs --no-resave-data kmcut StartedAt: 2025-02-04 02:12:13 -0500 (Tue, 04 Feb 2025) EndedAt: 2025-02-04 02:13:02 -0500 (Tue, 04 Feb 2025) EllapsedTime: 48.6 seconds RetCode: 0 Status: OK PackageFile: kmcut_1.0.0.tar.gz PackageFileSize: 1.26 MiB